BEGIN:VCALENDAR
VERSION:2.0
PRODID:-//Do Brunet - Sophrologue - ECPv6.15.17.1//NONSGML v1.0//EN
CALSCALE:GREGORIAN
METHOD:PUBLISH
X-ORIGINAL-URL:https://dobrunetsophrologue.fr
X-WR-CALDESC:Évènements pour Do Brunet - Sophrologue
REFRESH-INTERVAL;VALUE=DURATION:PT1H
X-Robots-Tag:noindex
X-PUBLISHED-TTL:PT1H
BEGIN:VTIMEZONE
TZID:UTC
BEGIN:STANDARD
TZOFFSETFROM:+0000
TZOFFSETTO:+0000
TZNAME:UTC
DTSTART:20240101T000000
END:STANDARD
END:VTIMEZONE
BEGIN:VEVENT
DTSTART;TZID=UTC:20251224T080000
DTEND;TZID=UTC:20251224T170000
DTSTAMP:20260420T100955
CREATED:20251209T113404Z
LAST-MODIFIED:20251211T131338Z
UID:2013-1766563200-1766595600@dobrunetsophrologue.fr
SUMMARY:1- Carte Cadeau Noël 2025
DESCRIPTION:Carte cadeau Noël 2025\nFaite un cadeau pour Noël\, en offrant deux cours de DANSE à Nogent Le Rotrou.\nVous offrez\, \nLa personne me joint afin d’en savoir plus \, \nNous définissons les deux jours\,\net Allez DANSONS \nTarif de la carte 25€ \nMe joindre
URL:https://dobrunetsophrologue.fr/event/1-carte-cadeau-noel-2025/
LOCATION:Nogent Le Rotrou
ATTACH;FMTTYPE=image/jpeg:https://dobrunetsophrologue.fr/wp-content/uploads/2025/12/Carte-Cadeau.jpg
END:VEVENT
END:VCALENDAR