BEGIN:VCALENDAR
VERSION:2.0
PRODID:-//Do Brunet - Sophrologue - ECPv6.15.17.1//NONSGML v1.0//EN
CALSCALE:GREGORIAN
METHOD:PUBLISH
X-WR-CALNAME:Do Brunet - Sophrologue
X-ORIGINAL-URL:https://dobrunetsophrologue.fr
X-WR-CALDESC:Évènements pour Do Brunet - Sophrologue
REFRESH-INTERVAL;VALUE=DURATION:PT1H
X-Robots-Tag:noindex
X-PUBLISHED-TTL:PT1H
BEGIN:VTIMEZONE
TZID:UTC
BEGIN:STANDARD
TZOFFSETFROM:+0000
TZOFFSETTO:+0000
TZNAME:UTC
DTSTART:20240101T000000
END:STANDARD
END:VTIMEZONE
BEGIN:VEVENT
DTSTART;TZID=UTC:20251124T080000
DTEND;TZID=UTC:20251125T170000
DTSTAMP:20260419T224251
CREATED:20250826T164122Z
LAST-MODIFIED:20250826T164122Z
UID:1947-1763971200-1764090000@dobrunetsophrologue.fr
SUMMARY:8- Transmission Danse à Biarritz
DESCRIPTION:Transmission Danse à Biarritz\nDurant deux jours Do transmet des danses de Andy de Groat à des lycéens de classe de première en spécialité Danse à Biarritz.\nTransmission : A partir de la pièce Swan Lac (1980) chorégraphié par Andy de Groat\, nous aborderons ses principes d’écriture.\nImprovisation\, Écriture chorégraphique\, Formation technique. \n 
URL:https://dobrunetsophrologue.fr/event/8-transmission-danse-a-biarritz/
LOCATION:CCN Biarritz\, France
ATTACH;FMTTYPE=image/jpeg:https://dobrunetsophrologue.fr/wp-content/uploads/2025/08/fan-dance-.jpg
END:VEVENT
BEGIN:VEVENT
DTSTART;TZID=UTC:20251127T103000
DTEND;TZID=UTC:20251127T113000
DTSTAMP:20260419T224251
CREATED:20251114T083000Z
LAST-MODIFIED:20251114T102530Z
UID:1980-1764239400-1764243000@dobrunetsophrologue.fr
SUMMARY:1- Sophrologie et Sommeil à Rémalard
DESCRIPTION:Sophrologie et Sommeil à Rémalard.\nOrganisé par l’ASEPT Normandie je mène une série de 6 ateliers Sommeil à destination ds seniors. \n6 ateliers pour comprendre son sommeil\, l’apprivoiser\, apprendre à le réguler\,  se détendre et se reposer.\nRespecter ses rythmes internes\, savoir récupérer\, optimiser son énergie\, se concentrer quand il le faut\, utiliser le stress à bon escient\, ne même plus penser à son sommeil… puisqu’il est naturel.\nDurant les séances : Prise de conscience corporelle\, Respiration\, Détente et Relaxation dynamique\, Visualisations.\nEn début en fin de séance nous partageons nos ressentis. \nA  Rémalard commune du Perche :\n– Groupe 1 : Les jeudis 10h30 – 11h30\n27 Nov / 4 – 11-18 Déc / 8 – 15 Janv\n– Groupe 2 : Les vendredis 10h30 – 11h30\n28 Nov / 5 – 12-19 Déc / 9 – 16 Janv
URL:https://dobrunetsophrologue.fr/event/1-sophrologie-et-sommeil-a-remalard/
LOCATION:Mairie de Rémalard\, 23 rue de l'Eglise\, Rémalard\, 61110\, France
ATTACH;FMTTYPE=image/jpeg:https://dobrunetsophrologue.fr/wp-content/uploads/2025/11/gens-dorment-dans-la-prairie-scaled-e1763113087575.jpg
END:VEVENT
BEGIN:VEVENT
DTSTART;TZID=UTC:20251129T143000
DTEND;TZID=UTC:20251130T180000
DTSTAMP:20260419T224251
CREATED:20250826T162207Z
LAST-MODIFIED:20250925T123516Z
UID:1944-1764426600-1764525600@dobrunetsophrologue.fr
SUMMARY:3- Ateliers Danse et Sophrologie + Qi Gong à Royaumont
DESCRIPTION:Sylvie Noyal et Do Brunet vous invitent en  week-end à l’abbaye de Royaumont.\n\n#1 Stage de Danse Contemporaine / Sophrologie et Mouvement Dansé avec Do Brunet\nSamedi 29 novembre 15h/18h \nRoyaumont\, salle des charpentes.\nAtelier à destination de Tout curieux\, de Sophrologues\, Art-Thérapeutes\, Psychomotriciens\, Enseignants sans oublier les Danseurs.\nJ’allie les spécificités et les outils de la Danse Contemporaine à ceux de la Sophrologie afin d’amplifier\, le prise de Conscience Corporelle sensible\, la Concentration et l’Harmonie corps-esprit\, la Confiance.\nUn atelier c’est une mise en corps et en groupe suivi de jeux chorégraphiques\, de temps de composition dansée \, d’improvisations guidées\,  de danses libre\, au gré des thématiques et en suivant le « mood » du groupe. Cet atelier vous emportera vers une Plongée créative en auto hypnosee accompagnée.\nNous terminons par une relaxation profonde ainsi qu’un temps d’échange . \n#2 Stage de Qi-Gong avec Sylvie Noyal\nDimanche 30 novembre 15h/18h (horaires à préciser)\nRoyaumont\, salle des charpentes.\nLe Qi-Gong est une gymnastique de santé prenant ses racines dans la médecine traditionnelle chinoise.\nTravail corporel permettant la souplesse des articulations et la bonne mobilité articulaire.\nMéditation et bols tibétains. \n  \nLes ateliers sont indépendants . \nIci quelques images des évènements et formations que j’ai proposés en 2023. Do Brunet \n \n  \n  \n  \n\n 
URL:https://dobrunetsophrologue.fr/event/3-ateliers-danse-et-sophrologie-qi-gong-a-royaumont/
LOCATION:Abbaye de Royaumont
ATTACH;FMTTYPE=image/jpeg:https://dobrunetsophrologue.fr/wp-content/uploads/2024/09/danse-et-graphisme-1-2.jpg
END:VEVENT
END:VCALENDAR